Workbook
Name тыс: '[1]%'!$B$3

Sheet Content
A1: 1 | D1: Solidcore Resources plc Datapack
B4: Production results | C4: Операционные результаты
B6: Production statistics | C6: Производственная статистика
B7: Consolidated highlights | C7: Консолидированные результаты | E7: Language/ Язык
B8: Kyzyl | C8: Кызыл
B10: Varvara | C10: Варваринское
B11: Reserves and Resources | C11: Резервы и ресурсы
B14: Financial results | C14: Финансовые результаты | E14: =CHOOSE($A$1,B4,C4) -> Production results
B15: Financial highlights | C15: Финансовые результаты
B16: Group balance sheet | C16: Балансовый отчет Группы | E16: =CHOOSE($A$1,B7,C7) -> Consolidated highlights | F16: =CHOOSE($A$1,B8,C8) -> Kyzyl | G16: =CHOOSE($A$1,B11,C11) -> Reserves and Resources
B18: Group income statement | C18: Отчет Группы о прибылях и убытках | F18: =CHOOSE($A$1,B10,C10) -> Varvara
B19: Group cash flow statement | C19: Отчет Группы о движении денежных средств
B20: Revenue structure | C20: Структура выручки | E20: =CHOOSE($A$1, B14,C14) -> Financial results
B21: Cost structure | C21: Структура затрат
B22: Debt | C22: Долг | E22: =CHOOSE($A$1, B15,C15) -> Financial highlights | F22: =CHOOSE($A$1, B16, C16) -> Group balance sheet | G22: =CHOOSE($A$1, B18, C18) -> Group income statement | H22: =CHOOSE($A$1, B19, C19) -> Group cash flow statement
B24: Cash cost | C24: Денежные затраты | E24: =CHOOSE($A$1, B20,C20) -> Revenue structure | F24: =CHOOSE($A$1, B21, C21) -> Cost structure | G24: =CHOOSE($A$1, B22, C22) -> Debt | H24: =CHOOSE($A$1, B24, C24) -> Cash cost
B26: CapEx | C26: Капитальные затраты | E26: =CHOOSE($A$1, B27, C27) -> Dividends
B27: Dividends | C27: Дивиденды
B28: Other | C28: Прочее

Sheet Production
C1: =IFERROR(CHOOSE(B1, " ¹ "," ² "," ³ "," ⁴ "," ⁵ "," ⁶ "," ⁷ "," ⁸ "," ⁹ ", " ¹⁰ "," ¹¹ "," ¹² " ),"") | D1: Group production statistics | E1: Производственная статистика Группы | F1: =CHOOSE(Content!$A$1, $D1, $E1)&$C1 -> Group production statistics
C2: =IFERROR(CHOOSE(B2, " ¹ "," ² "," ³ "," ⁴ "," ⁵ "," ⁶ "," ⁷ "," ⁸ "," ⁹ ", " ¹⁰ "," ¹¹ "," ¹² " ),"") | D2: ="" | E2: ="" | F2: =CHOOSE(Content!$A$1, $D2, $E2)&$C2 | H2: =CHOOSE(Content!$A$1, "Q"&MONTH(H3)/3, ROMAN(MONTH(H3)/3)&" кв.")&" "&YEAR(H3) -> Q1 2019 | I2: =CHOOSE(Content!$A$1, "Q"&MONTH(I3)/3, ROMAN(MONTH(I3)/3)&" кв.")&" "&YEAR(I3) -> Q2 2019 | J2: =CHOOSE(Content!$A$1, "Q"&MONTH(J3)/3, ROMAN(MONTH(J3)/3)&" кв.")&" "&YEAR(J3) -> Q3 2019 | K2: =CHOOSE(Content!$A$1, "Q"&MONTH(K3)/3, ROMAN(MONTH(K3)/3)&" кв.")&" "&YEAR(K3) -> Q4 2019 | L2: =CHOOSE(Content!$A$1, "Q"&MONTH(L3)/3, ROMAN(MONTH(L3)/3)&" кв.")&" "&YEAR(L3) -> Q1 2020 | M2: =CHOOSE(Content!$A$1, "Q"&MONTH(M3)/3, ROMAN(MONTH(M3)/3)&" кв.")&" "&YEAR(M3) -> Q2 2020 | N2: =CHOOSE(Content!$A$1, "Q"&MONTH(N3)/3, ROMAN(MONTH(N3)/3)&" кв.")&" "&YEAR(N3) -> Q3 2020 | O2: =CHOOSE(Content!$A$1, "Q"&MONTH(O3)/3, ROMAN(MONTH(O3)/3)&" кв.")&" "&YEAR(O3) -> Q4 2020 | ... AK2: =CHOOSE(Content!$A$1, "Q"&MONTH(AK3)/3, ROMAN(MONTH(AK3)/3)&" кв.")&" "&YEAR(AK3) -> Q2 2026 | AL2: =CHOOSE(Content!$A$1, "Y-o-Y, %", "Изменение, %" ) -> Y-o-Y, % | AN2: =CHOOSE(Content!$A$1, "FY "&AN3, AN3) -> FY 2019 | AO2: =CHOOSE(Content!$A$1, "FY "&AO3, AO3) -> FY 2020 | AP2: =CHOOSE(Content!$A$1, "FY "&AP3, AP3) -> FY 2021 | AQ2: =CHOOSE(Content!$A$1, "FY "&AQ3, AQ3) -> FY 2022 | AR2: =CHOOSE(Content!$A$1, "FY "&AR3, AR3) -> FY 2023 | AS2: =CHOOSE(Content!$A$1, "FY "&AS3, AS3) -> FY 2024 | AT2: =CHOOSE(Content!$A$1, "FY "&AT3, AT3) -> FY 2025 | AU2: =CHOOSE(Content!$A$1, "Change, %", "Изменение, %" ) -> Change, %
C3: =IFERROR(CHOOSE(B3, " ¹ "," ² "," ³ "," ⁴ "," ⁵ "," ⁶ "," ⁷ "," ⁸ "," ⁹ ", " ¹⁰ "," ¹¹ "," ¹² " ),"") | D3: ="" | E3: ="" | F3: =CHOOSE(Content!$A$1, $D3, $E3)&$C3 | H3: =DATE(2019, 3, 31) -> 43555 | I3: =EOMONTH(H3,3) -> 43646 | J3: =EOMONTH(I3,3) -> 43738 | K3: =EOMONTH(J3,3) -> 43830 | L3: =EOMONTH(K3,3) -> 43921 | M3: =EOMONTH(L3,3) -> 44012 | N3: =EOMONTH(M3,3) -> 44104 | O3: =EOMONTH(N3,3) -> 44196 | P3: =EOMONTH(O3,3) -> 44286 | ... AK3: =EOMONTH(AJ3,3) -> 46203 | AN3: 2019 | AO3: =AN3+1 -> 2020 | AP3: =AO3+1 -> 2021 | AQ3: =AP3+1 -> 2022 | AR3: =AQ3+1 -> 2023 | AS3: =AR3+1 -> 2024 | AT3: =AS3+1 -> 2025
C4: =IFERROR(CHOOSE(B4, " ¹ "," ² "," ³ "," ⁴ "," ⁵ "," ⁶ "," ⁷ "," ⁸ "," ⁹ ", " ¹⁰ "," ¹¹ "," ¹² " ),"") | D4: Consolidated highlights | E4: Консолидированные результаты | F4: =CHOOSE(Content!$A$1, $D4, $E4)&$C4 -> Consolidated highlights
C5: =IFERROR(CHOOSE(B5, " ¹ "," ² "," ³ "," ⁴ "," ⁵ "," ⁶ "," ⁷ "," ⁸ "," ⁹ ", " ¹⁰ "," ¹¹ "," ¹² " ),"") | D5: Waste mined, Kt | E5: Вскрыша, тыс. тонн | F5: =CHOOSE(Content!$A$1, $D5, $E5)&$C5 -> Waste mined, Kt | H5: 27018.662 | I5: 28006.968 | J5: 28966.069 | K5: 28811.972 | L5: 29396.667 | M5: 28891.963 | N5: 30025.325 | O5: 29991.329 | P5: 29741.906 | Q5: 30668.213 | R5: 32336.74 | S5: 32296.576 | T5: 31689.133 | U5: 31260.303 | V5: 31408.052 | W5: 32145.285 | X5: 30617.695 | Y5: 29644.254 | Z5: 31872.297 | AA5: 29845.13 | AB5: 33054.518 | AC5: 31346.578 | AD5: 30979.182 | AE5: 33580.967 | AF5: 30611.268 | AG5: 30102.082 | AH5: 31585.628 | AI5: 30904.629 | AJ5: 23930.158 | AK5: 25397.157 | AL5: -0.15629901 | AN5: 112803.67 | AO5: 118305.29 | AP5: 125043.43 | AQ5: 126502.77 | AR5: 121979.38 | AS5: 128961.25 | AT5: 123203.61 | AU5: -0.044646269
C6: =IFERROR(CHOOSE(B6, " ¹ "," ² "," ³ "," ⁴ "," ⁵ "," ⁶ "," ⁷ "," ⁸ "," ⁹ ", " ¹⁰ "," ¹¹ "," ¹² " ),"") | D6: Ore mined, Kt | E6: Добыча руды, тыс. тонн | F6: =CHOOSE(Content!$A$1, $D6, $E6)&$C6 -> Ore mined, Kt | H6: 1482.401 | I6: 1488.6045 | J6: 1541.4545 | K6: 1430.9308 | L6: 1305.309 | M6: 1219.718 | N6: 1238.426 | O6: 1089.6228 | P6: 1612.243 | Q6: 1392.511 | R6: 1481.929 | S6: 1314.56 | T6: 1541.215 | U6: 1659.626 | V6: 1520.67 | W6: 1358.646 | X6: 1299.363 | Y6: 1389.523 | Z6: 1319.537 | AA6: 1251.821 | AB6: 1171.868 | AC6: 1311.919 | AD6: 1205.462 | AE6: 1511.541 | AF6: 1318.95 | AG6: 1260.073 | AH6: 1329.177 | AI6: 1391.513 | AJ6: 1464.229 | AK6: 1304.221 | AL6: 0.035036065 | AN6: 5943.3908 | AO6: 4853.0758 | AP6: 5801.243 | AQ6: 6080.157 | AR6: 5260.244 | AS6: 5200.79 | AT6: 5299.713 | AU6: 0.019020764
C7: =IFERROR(CHOOSE(B7, " ¹ "," ² "," ³ "," ⁴ "," ⁵ "," ⁶ "," ⁷ "," ⁸ "," ⁹ ", " ¹⁰ "," ¹¹ "," ¹² " ),"") | D7: Open-pit | E7: Открытые горные работы | F7: =CHOOSE(Content!$A$1, $D7, $E7)&$C7 -> Open-pit | H7: 1482.401 | I7: 1488.6045 | J7: 1541.4545 | K7: 1430.9308 | L7: 1305.309 | M7: 1219.718 | N7: 1238.426 | O7: 1089.6228 | P7: 1612.243 | Q7: 1392.511 | R7: 1481.929 | S7: 1314.56 | T7: 1541.215 | U7: 1659.626 | V7: 1520.67 | W7: 1358.646 | X7: 1299.363 | Y7: 1389.523 | Z7: 1319.537 | AA7: 1251.821 | AB7: 1171.868 | AC7: 1311.919 | AD7: 1205.462 | AE7: 1511.541 | AF7: 1318.95 | AG7: 1260.073 | AH7: 1329.177 | AI7: 1391.513 | AJ7: 1464.229 | AK7: 1304.221 | AL7: 0.035036065 | AN7: 5943.3908 | AO7: 4853.0758 | AP7: 5801.243 | AQ7: 6080.157 | AR7: 5260.244 | AS7: 5200.79 | AT7: 5299.713 | AU7: 0.019020764
C8: =IFERROR(CHOOSE(B8, " ¹ "," ² "," ³ "," ⁴ "," ⁵ "," ⁶ "," ⁷ "," ⁸ "," ⁹ ", " ¹⁰ "," ¹¹ "," ¹² " ),"") | D8: Ore processed, Kt | E8: Переработка руды, тыс. тонн | F8: =CHOOSE(Content!$A$1, $D8, $E8)&$C8 -> Ore processed, Kt | H8: 1374.598 | I8: 1425.725 | J8: 1369.1163 | K8: 1380.7677 | L8: 1388.3538 | M8: 1464.1691 | N8: 1458.327 | O8: 1408.0339 | P8: 1517.8243 | Q8: 1548.0353 | R8: 1513.0127 | S8: 1500.5611 | T8: 1498.8549 | U8: 1555.7007 | V8: 1584.4937 | W8: 1512.2953 | X8: 1517.6937 | Y8: 1597.2008 | Z8: 1619.3101 | AA8: 1606.8947 | AB8: 1567.5248 | AC8: 1577.9758 | AD8: 1608.7792 | AE8: 1618.2057 | AF8: 1572.632 | AG8: 1643.7091 | AH8: 1663.855 | AI8: 1641.792 | AJ8: 1634.029 | AK8: 1584.471 | AL8: -0.036039308 | AN8: 5550.557 | AO8: 5718.8837 | AP8: 6079.4335 | AQ8: 6151.3446 | AR8: 6341.0993 | AS8: 6372.4854 | AT8: 6521.9882 | AU8: 0.023460665
C9: =IFERROR(CHOOSE(B9, " ¹ "," ² "," ³ "," ⁴ "," ⁵ "," ⁶ "," ⁷ "," ⁸ "," ⁹ ", " ¹⁰ "," ¹¹ "," ¹² " ),"") | D9: Gold grade processed, g/t | E9: Содержание золота в перерабатываемой руде, г/т | F9: =CHOOSE(Content!$A$1, $D9, $E9)&$C9 -> Gold grade processed, g/t | H9: 3.2992939 | I9: 3.2468982 | J9: 3.7037138 | K9: 3.7669891 | L9: 4.1073566 | M9: 3.9295613 | N9: 3.7108704 | O9: 3.7571207 | P9: 3.3743491 | Q9: 3.5642708 | R9: 3.3253579 | S9: 3.2237463 | T9: 2.9582631 | U9: 2.8502677 | V9: 3.2537085 | W9: 3.3963858 | X9: 2.9367243 | Y9: 2.9009562 | Z9: 2.8185944 | AA9: 2.912527 | AB9: 3.0008482 | AC9: 3.0355678 | AD9: 2.5757193 | AE9: 2.5329187 | AF9: 2.9598505 | AG9: 3.0236013 | AH9: 2.5181914 | AI9: 2.4209239 | AJ9: 2.6499392 | AK9: 3.156415 | AL9: 0.043925678 | AN9: 3.5021934 | AO9: 3.8745028 | AP9: 3.3736651 | AQ9: 3.1134666 | AR9: 2.8914166 | AS9: 2.7832945 | AT9: 2.7275786 | AU9: -0.020017943
C10: =IFERROR(CHOOSE(B10, " ¹ "," ² "," ³ "," ⁴ "," ⁵ "," ⁶ "," ⁷ "," ⁸ "," ⁹ ", " ¹⁰ "," ¹¹ "," ¹² " ),"") | D10: Silver grade processed, g/t | E10: Содержание серебра в перерабатываемой руде, г/т | F10: =CHOOSE(Content!$A$1, $D10, $E10)&$C10 -> Silver grade processed, g/t | H10: 1.0497461 | I10: 1.0683157 | J10: 1.0524355 | K10: 0.9071357 | L10: 0.73179939 | M10: 1.0210556 | N10: 1.0128818 | O10: 0.85573169 | P10: 0.86005828 | Q10: 1.045712 | R10: 0.696302 | S10: 1.3731407 | T10: 0.96258542 | U10: 2.2653804 | V10: 0.59990857 | W10: 0.89388068 | X10: 0.4505996 | Y10: 0.84257723 | Z10: 0.4 | AA10: 0.4505996 | AB10: 0.3846373 | AC10: 0.31326026 | AD10: 0.57507864 | AE10: 0.27065119 | AF10: 0.29806572 | AG10: 0.23281382 | AH10: 0.3 | AI10: 0.3 | AJ10: 0.23250567 | AK10: 0.21487638 | AL10: -0.077046256 | AN10: 1.029163 | AO10: 0.90942688 | AP10: 0.99761086 | AQ10: 1.6525696 | AR10: 0.44808824 | AS10: 0.33075197 | AT10: 0.33075197 | AU10: 0
C11: =IFERROR(CHOOSE(B11, " ¹ "," ² "," ³ "," ⁴ "," ⁵ "," ⁶ "," ⁷ "," ⁸ "," ⁹ ", " ¹⁰ "," ¹¹ "," ¹² " ),"") | D11: GE grade processed, g/t | E11: Содержание в перерабатываемой руде в золотом эквиваленте, г/т | F11: =CHOOSE(Content!$A$1, $D11, $E11)&$C11 -> GE grade processed, g/t | H11: 3.3124158 | I11: 3.2602521 | J11: 3.7168692 | K11: 3.7783283 | L11: 4.1165041 | M11: 3.9423245 | N11: 3.7235315 | O11: 3.7678174 | P11: 3.3850999 | Q11: 3.5773422 | R11: 3.3340617 | S11: 3.2409106 | T11: 2.9702954 | U11: 2.8785849 | V11: 3.2612073 | W11: 3.4075593 | X11: 2.9423568 | Y11: 2.9114884 | Z11: 2.8235944 | AA11: 2.9181595 | AB11: 3.0056562 | AC11: 3.0394836 | AD11: 2.5829078 | AE11: 2.5363018 | AF11: 2.9635763 | AG11: 3.063247 | AH11: 2.5219414 | AI11: 2.4246739 | AJ11: 2.6528455 | AK11: 3.159101 | AL11: 0.031291644 | AN11: 3.515058 | AO11: 3.8858706 | AP11: 3.3861352 | AQ11: 3.1341238 | AR11: 2.8970177 | AS11: 2.7874289 | AT11: 2.731713 | AU11: -0.019988251
C12: =IFERROR(CHOOSE(B12, " ¹ "," ² "," ³ "," ⁴ "," ⁵ "," ⁶ "," ⁷ "," ⁸ "," ⁹ ", " ¹⁰ "," ¹¹ "," ¹² " ),"") | D12: TOTAL PRODUCTION | E12: ИТОГО ПРОИЗВОДСТВО | F12: =CHOOSE(Content!$A$1, $D12, $E12)&$C12 -> TOTAL PRODUCTION
C13: =IFERROR(CHOOSE(B13, " ¹ "," ² "," ³ "," ⁴ "," ⁵ "," ⁶ "," ⁷ "," ⁸ "," ⁹ ", " ¹⁰ "," ¹¹ "," ¹² " ),"") | D13: Gold, Koz | E13: Золото, тыс. унций | F13: =CHOOSE(Content!$A$1, $D13, $E13)&$C13 -> Gold, Koz | H13: 112.07749 | I13: 117.29913 | J13: 128.00192 | K13: 122.80021 | L13: 151.89644 | M13: 145.28285 | N13: 147.47422 | O13: 95.466796 | P13: 148.52503 | Q13: 143.94675 | R13: 139.88449 | S13: 124.78249 | T13: 138.74022 | U13: 104.89156 | V13: 133.05451 | W13: 163.91903 | X13: 115.22904 | Y13: 98.000927 | Z13: 126.82714 | AA13: 145.06508 | AB13: 117.05204 | AC13: 134.78362 | AD13: 118.53627 | AE13: 118.91991 | AF13: 67.992323 | AG13: 54.7899 | AH13: 124.79147 | AI13: 146.24576 | AJ13: 124.82516 | AK13: 85.529668 | AL13: 0.56104809 | AN13: 480.18231 | AO13: 540.12031 | AP13: 557.13876 | AQ13: 540.60532 | AR13: 485.12219 | AS13: 489.29183 | AT13: 394.59642 | AU13: -0.19353565
C14: =IFERROR(CHOOSE(B14, " ¹ "," ² "," ³ "," ⁴ "," ⁵ "," ⁶ "," ⁷ "," ⁸ "," ⁹ ", " ¹⁰ "," ¹¹ "," ¹² " ),"") | D14: Silver, Moz | E14: Серебро, млн унций | F14: =CHOOSE(Content!$A$1, $D14, $E14)&$C14 -> Silver, Moz | H14: 0.0064278509 | I14: 0.0092908515 | J14: 0.0082404771 | K14: 0.0071159803 | L14: 0.0077863358 | M14: 0.0091447059 | N14: 0.010171245 | O14: 0.0060872755 | P14: 0.013145167 | Q14: 0.010316871 | R14: 0.0098299494 | S14: 0.0077833676 | T14: 0.015628566 | U14: 0.015419111 | V14: 0.021099854 | W14: 0.016029372 | X14: 0.0099642281 | Y14: 0.0074720627 | Z14: 0.0070941883 | AA14: 0.0062437286 | AB14: 0.0055547274 | AC14: 0.0040108645 | AD14: 0.004257052 | AE14: 0.0049327366 | AF14: 0.0032007378 | AG14: 0.0035643202 | AH14: 0.0039244128 | AI14: 0.0039347209 | AJ14: 0.0035874993 | AK14: 0.0033229275 | AL14: -0.067724745 | AN14: 0.03107516 | AO14: 0.033189562 | AP14: 0.041075355 | AQ14: 0.068176903 | AR14: 0.030774208 | AS14: 0.01875538 | AT14: 0.014624192 | AU14: -0.22026686
C15: =IFERROR(CHOOSE(B15, " ¹ "," ² "," ³ "," ⁴ "," ⁵ "," ⁶ "," ⁷ "," ⁸ "," ⁹ ", " ¹⁰ "," ¹¹ "," ¹² " ),"") | D15: Copper, t | E15: Медь, тонн | F15: =CHOOSE(Content!$A$1, $D15, $E15)&$C15 -> Copper, t | H15: 705.0511 | I15: 559.38668 | J15: 569.47909 | K15: 451.78424 | L15: 320.1118 | M15: 464.74625 | N15: 509.83013 | O15: 249.67395 | P15: 600.31605 | Q15: 540.30951 | R15: 324.41031 | S15: 436.28748 | T15: 432.47165 | U15: 383.27455 | V15: 412.69607 | W15: 435.54906 | X15: 593.11455 | Y15: 491.73081 | Z15: 540.78056 | AA15: 537.20154 | AB15: 493.69193 | AC15: 441.89462 | AD15: 541.07647 | AE15: 362.35597 | AF15: 423.55709 | AG15: 437.53552 | AH15: 265.642 | AI15: 236.61973 | AJ15: 197.59716 | AK15: 195.03951 | AL15: -0.55423159 | AN15: 2285.7011 | AO15: 1544.3621 | AP15: 1901.3233 | AQ15: 1663.9913 | AR15: 2162.8275 | AS15: 1839.019 | AT15: 1363.3543 | AU15: -0.2586513
C16: =IFERROR(CHOOSE(B16, " ¹ "," ² "," ³ "," ⁴ "," ⁵ "," ⁶ "," ⁷ "," ⁸ "," ⁹ ", " ¹⁰ "," ¹¹ "," ¹² " ),"") | D16: Gold equivalent, Koz | E16: Золотой эквивалент, тыс. унций | F16: =CHOOSE(Content!$A$1, $D16, $E16)&$C16 -> Gold equivalent, Koz | H16: 112.15784 | I16: 117.41527 | J16: 128.10492 | K16: 122.88916 | L16: 151.99377 | M16: 145.39716 | N16: 147.60136 | O16: 95.542887 | P16: 148.68935 | Q16: 144.07571 | R16: 140.00736 | S16: 124.87978 | T16: 138.93558 | U16: 105.0843 | V16: 133.31826 | W16: 164.11939 | X16: 115.35359 | Y16: 98.094328 | Z16: 126.91582 | AA16: 145.14312 | AB16: 117.12147 | AC16: 134.83375 | AD16: 118.58949 | AE16: 118.98157 | AF16: 68.032333 | AG16: 54.834454 | AH16: 124.84053 | AI16: 146.29495 | AJ16: 124.87 | AK16: 85.571204 | AL16: 0.5605372 | AN16: 480.57075 | AO16: 540.53518 | AP16: 557.6522 | AQ16: 541.45753 | AR16: 485.50687 | AS16: 489.52628 | AT16: 394.77922 | AU16: -0.19354845
C17: =IFERROR(CHOOSE(B17, " ¹ "," ² "," ³ "," ⁴ "," ⁵ "," ⁶ "," ⁷ "," ⁸ "," ⁹ ", " ¹⁰ "," ¹¹ "," ¹² " ),"") | D17: Ag/Au ratio | E17: коэффициент Ag/Au | F17: =CHOOSE(Content!$A$1, $D17, $E17)&$C17 -> Ag/Au ratio | H17: 80 | I17: 80 | J17: 80 | K17: 80 | L17: 80 | M17: 80 | N17: 80 | O17: 80 | P17: 80 | Q17: 80 | R17: 80 | S17: 80 | T17: 80 | U17: 80 | V17: 80 | W17: 80 | X17: 80 | Y17: 80 | Z17: 80 | AA17: 80 | AB17: 80 | AC17: 80 | AD17: 80 | AE17: 80 | AF17: 80 | AG17: 80 | AH17: 80 | AI17: 80 | AJ17: 80 | AK17: 80 | AN17: 80 | AO17: 80 | AP17: 80 | AQ17: 80 | AR17: 80 | AS17: 80 | AT17: 80 | AU17: 0
C18: =IFERROR(CHOOSE(B18, " ¹ "," ² "," ³ "," ⁴ "," ⁵ "," ⁶ "," ⁷ "," ⁸ "," ⁹ ", " ¹⁰ "," ¹¹ "," ¹² " ),"") | D18: Gold production by mine, Koz | E18: Производство золота в разбивке по предприятиям, тыс. унций | F18: =CHOOSE(Content!$A$1, $D18, $E18)&$C18 -> Gold production by mine, Koz
C19: =IFERROR(CHOOSE(B19, " ¹ "," ² "," ³ "," ⁴ "," ⁵ "," ⁶ "," ⁷ "," ⁸ "," ⁹ ", " ¹⁰ "," ¹¹ "," ¹² " ),"") | D19: Kyzyl | E19: Кызыл | F19: =CHOOSE(Content!$A$1, $D19, $E19)&$C19 -> Kyzyl | H19: 78.107927 | I19: 81.354294 | J19: 94.002568 | K19: 90.017838 | L19: 108.56897 | M19: 104.27354 | N19: 101.5929 | O19: 67.137479 | P19: 88.953281 | Q19: 93.329214 | R19: 93.106825 | S19: 84.544425 | T19: 81.831828 | U19: 52.949432 | V19: 82.255127 | W19: 112.9262 | X19: 71.37472 | Y19: 56.324796 | Z19: 84.223568 | AA19: 104.14226 | AB19: 75.691725 | AC19: 93.226532 | AD19: 76.788776 | AE19: 74.06774 | AF19: 30.967218 | AG19: 16.195952 | AH19: 84.957223 | AI19: 101.36881 | AJ19: 81.189391 | AK19: 40.80249 | AL19: 1.5193018 | AN19: 343.48263 | AO19: 381.57289 | AP19: 359.93375 | AQ19: 329.96258 | AR19: 316.06535 | AS19: 319.77477 | AT19: 234.26617 | AU19: -0.2674026
C20: =IFERROR(CHOOSE(B20, " ¹ "," ² "," ³ "," ⁴ "," ⁵ "," ⁶ "," ⁷ "," ⁸ "," ⁹ ", " ¹⁰ "," ¹¹ "," ¹² " ),"") | D20: Varvara | E20: Варваринское | F20: =CHOOSE(Content!$A$1, $D20, $E20)&$C20 -> Varvara | H20: 33.969568 | I20: 35.944841 | J20: 33.999349 | K20: 32.782372 | L20: 43.327475 | M20: 41.00931 | N20: 45.881317 | O20: 28.329318 | P20: 59.571751 | Q20: 50.617536 | R20: 46.777662 | S20: 40.238066 | T20: 56.908393 | U20: 51.942127 | V20: 50.799386 | W20: 50.99283 | X20: 43.85432 | Y20: 41.676132 | Z20: 42.603575 | AA20: 40.922815 | AB20: 41.360314 | AC20: 41.557083 | AD20: 41.747498 | AE20: 44.852167 | AF20: 37.025105 | AG20: 38.593948 | AH20: 39.83425 | AI20: 44.876951 | AJ20: 43.635765 | AK20: 44.727177 | AL20: 0.15891688 | AN20: 136.69968 | AO20: 158.54742 | AP20: 197.20502 | AQ20: 210.64274 | AR20: 169.05684 | AS20: 169.51706 | AT20: 160.33025 | AU20: -0.054194006
C21: =IFERROR(CHOOSE(B21, " ¹ "," ² "," ³ "," ⁴ "," ⁵ "," ⁶ "," ⁷ "," ⁸ "," ⁹ ", " ¹⁰ "," ¹¹ "," ¹² " ),"") | D21: Total | E21: Итого | F21: =CHOOSE(Content!$A$1, $D21, $E21)&$C21 -> Total | H21: 112.07749 | I21: 117.29913 | J21: 128.00192 | K21: 122.80021 | L21: 151.89644 | M21: 145.28285 | N21: 147.47422 | O21: 95.466796 | P21: 148.52503 | Q21: 143.94675 | R21: 139.88449 | S21: 124.78249 | T21: 138.74022 | U21: 104.89156 | V21: 133.05451 | W21: 163.91903 | X21: 115.22904 | Y21: 98.000927 | Z21: 126.82714 | AA21: 145.06508 | AB21: 117.05204 | AC21: 134.78362 | AD21: 118.53627 | AE21: 118.91991 | AF21: 67.992323 | AG21: 54.7899 | AH21: 124.79147 | AI21: 146.24576 | AJ21: 124.82516 | AK21: 85.529668 | AL21: 0.56104809 | AN21: 480.18231 | AO21: 540.12031 | AP21: 557.13876 | AQ21: 540.60532 | AR21: 485.12219 | AS21: 489.29183 | AT21: 394.59642 | AU21: -0.19353565
C22: =IFERROR(CHOOSE(B22, " ¹ "," ² "," ³ "," ⁴ "," ⁵ "," ⁶ "," ⁷ "," ⁸ "," ⁹ ", " ¹⁰ "," ¹¹ "," ¹² " ),"") | D22: Silver production by mine, Moz | E22: Производство серебра в разбивке по предприятиям, млн унций | F22: =CHOOSE(Content!$A$1, $D22, $E22)&$C22 -> Silver production by mine, Moz
C23: =IFERROR(CHOOSE(B23, " ¹ "," ² "," ³ "," ⁴ "," ⁵ "," ⁶ "," ⁷ "," ⁸ "," ⁹ ", " ¹⁰ "," ¹¹ "," ¹² " ),"") | D23: Varvara | E23: Варваринское | F23: =CHOOSE(Content!$A$1, $D23, $E23)&$C23 -> Varvara | H23: 0.0064278509 | I23: 0.0092908515 | J23: 0.0082404771 | K23: 0.0071159803 | L23: 0.0077863358 | M23: 0.0091447059 | N23: 0.010171245 | O23: 0.0060872755 | P23: 0.013145167 | Q23: 0.010316871 | R23: 0.0098299494 | S23: 0.0077833676 | T23: 0.015628566 | U23: 0.015419111 | V23: 0.021099854 | W23: 0.016029372 | X23: 0.0099642281 | Y23: 0.0074720627 | Z23: 0.0070941883 | AA23: 0.0062437286 | AB23: 0.0055547274 | AC23: 0.0040108645 | AD23: 0.004257052 | AE23: 0.0049327366 | AF23: 0.0032007378 | AG23: 0.0035643202 | AH23: 0.0039244128 | AI23: 0.0039347209 | AJ23: 0.0035874993 | AK23: 0.0033229275 | AL23: -0.067724745 | AN23: 0.03107516 | AO23: 0.033189562 | AP23: 0.041075355 | AQ23: 0.068176903 | AR23: 0.030774208 | AS23: 0.01875538 | AT23: 0.014624192 | AU23: -0.22026686
C24: =IFERROR(CHOOSE(B24, " ¹ "," ² "," ³ "," ⁴ "," ⁵ "," ⁶ "," ⁷ "," ⁸ "," ⁹ ", " ¹⁰ "," ¹¹ "," ¹² " ),"") | D24: Silver, Moz | E24: Серебро, млн унций | F24: =CHOOSE(Content!$A$1, $D24, $E24)&$C24 -> Silver, Moz | H24: 0.0064278509 | I24: 0.0092908515 | J24: 0.0082404771 | K24: 0.0071159803 | L24: 0.0077863358 | M24: 0.0091447059 | N24: 0.010171245 | O24: 0.0060872755 | P24: 0.013145167 | Q24: 0.010316871 | R24: 0.0098299494 | S24: 0.0077833676 | T24: 0.015628566 | U24: 0.015419111 | V24: 0.021099854 | W24: 0.016029372 | X24: 0.0099642281 | Y24: 0.0074720627 | Z24: 0.0070941883 | AA24: 0.0062437286 | AB24: 0.0055547274 | AC24: 0.0040108645 | AD24: 0.004257052 | AE24: 0.0049327366 | AF24: 0.0032007378 | AG24: 0.0035643202 | AH24: 0.0039244128 | AI24: 0.0039347209 | AJ24: 0.0035874993 | AK24: 0.0033229275 | AL24: -0.067724745 | AN24: 0.03107516 | AO24: 0.033189562 | AP24: 0.041075355 | AQ24: 0.068176903 | AR24: 0.030774208 | AS24: 0.01875538 | AT24: 0.014624192 | AU24: -0.22026686
C25: =IFERROR(CHOOSE(B25, " ¹ "," ² "," ³ "," ⁴ "," ⁵ "," ⁶ "," ⁷ "," ⁸ "," ⁹ ", " ¹⁰ "," ¹¹ "," ¹² " ),"") | D25: Gold equivalent production by mine, GE Koz | E25: Производство по предприятиям, тыс. унций в золотом эквиваленте | F25: =CHOOSE(Content!$A$1, $D25, $E25)&$C25 -> Gold equivalent production by mine, GE Koz
C26: =IFERROR(CHOOSE(B26, " ¹ "," ² "," ³ "," ⁴ "," ⁵ "," ⁶ "," ⁷ "," ⁸ "," ⁹ ", " ¹⁰ "," ¹¹ "," ¹² " ),"") | D26: Kyzyl | E26: Кызыл | F26: =CHOOSE(Content!$A$1, $D26, $E26)&$C26 -> Kyzyl | H26: 78.107927 | I26: 81.354294 | J26: 94.002568 | K26: 90.017838 | L26: 108.56897 | M26: 104.27354 | N26: 101.5929 | O26: 67.137479 | P26: 88.953281 | Q26: 93.329214 | R26: 93.106825 | S26: 84.544425 | T26: 81.831828 | U26: 52.949432 | V26: 82.255127 | W26: 112.9262 | X26: 71.37472 | Y26: 56.324796 | Z26: 84.223568 | AA26: 104.14226 | AB26: 75.691725 | AC26: 93.226532 | AD26: 76.788776 | AE26: 74.06774 | AF26: 30.967218 | AG26: 16.195952 | AH26: 84.957223 | AI26: 101.36881 | AJ26: 81.189391 | AK26: 40.80249 | AL26: 1.5193018 | AN26: 343.48263 | AO26: 381.57289 | AP26: 359.93375 | AQ26: 329.96258 | AR26: 316.06535 | AS26: 319.77477 | AT26: 234.26617 | AU26: -0.2674026
C27: =IFERROR(CHOOSE(B27, " ¹ "," ² "," ³ "," ⁴ "," ⁵ "," ⁶ "," ⁷ "," ⁸ "," ⁹ ", " ¹⁰ "," ¹¹ "," ¹² " ),"") | D27: Varvara | E27: Варваринское | F27: =CHOOSE(Content!$A$1, $D27, $E27)&$C27 -> Varvara | H27: 34.049916 | I27: 36.060976 | J27: 34.102355 | K27: 32.871322 | L27: 43.424804 | M27: 41.123618 | N27: 46.008457 | O27: 28.405409 | P27: 59.736065 | Q27: 50.746497 | R27: 46.900537 | S27: 40.335358 | T27: 57.10375 | U27: 52.134866 | V27: 51.063134 | W27: 51.193197 | X27: 43.978873 | Y27: 41.769533 | Z27: 42.692253 | AA27: 41.000861 | AB27: 41.429748 | AC27: 41.607219 | AD27: 41.800711 | AE27: 44.913826 | AF27: 37.065115 | AG27: 38.638502 | AH27: 39.883306 | AI27: 44.926135 | AJ27: 43.680609 | AK27: 44.768714 | AL27: 0.15865554 | AN27: 137.08812 | AO27: 158.96229 | AP27: 197.71846 | AQ27: 211.49495 | AR27: 169.44152 | AS27: 169.7515 | AT27: 160.51306 | AU27: -0.054423367
C28: =IFERROR(CHOOSE(B28, " ¹ "," ² "," ³ "," ⁴ "," ⁵ "," ⁶ "," ⁷ "," ⁸ "," ⁹ ", " ¹⁰ "," ¹¹ "," ¹² " ),"") | D28: Total | E28: Итого | F28: =CHOOSE(Content!$A$1, $D28, $E28)&$C28 -> Total | H28: 112.15784 | I28: 117.41527 | J28: 128.10492 | K28: 122.88916 | L28: 151.99377 | M28: 145.39716 | N28: 147.60136 | O28: 95.542887 | P28: 148.68935 | Q28: 144.07571 | R28: 140.00736 | S28: 124.87978 | T28: 138.93558 | U28: 105.0843 | V28: 133.31826 | W28: 164.11939 | X28: 115.35359 | Y28: 98.094328 | Z28: 126.91582 | AA28: 145.14312 | AB28: 117.12147 | AC28: 134.83375 | AD28: 118.58949 | AE28: 118.98157 | AF28: 68.032333 | AG28: 54.834454 | AH28: 124.84053 | AI28: 146.29495 | AJ28: 124.87 | AK28: 85.571204 | AL28: 0.5605372 | AN28: 480.57075 | AO28: 540.53518 | AP28: 557.6522 | AQ28: 541.45753 | AR28: 485.50687 | AS28: 489.52628 | AT28: 394.77922 | AU28: -0.19354845
C29: =IFERROR(CHOOSE(B29, " ¹ "," ² "," ³ "," ⁴ "," ⁵ "," ⁶ "," ⁷ "," ⁸ "," ⁹ ", " ¹⁰ "," ¹¹ "," ¹² " ),"") | D29: Gold equivalent grade in ore processed by mine, GE g/t | E29: Среднее содержание в перерабатываемой руде,г/т золотого эквивалента | F29: =CHOOSE(Content!$A$1, $D29, $E29)&$C29 -> Gold equivalent grade in ore processed by mine, GE g/t
C30: =IFERROR(CHOOSE(B30, " ¹ "," ² "," ³ "," ⁴ "," ⁵ "," ⁶ "," ⁷ "," ⁸ "," ⁹ ", " ¹⁰ "," ¹¹ "," ¹² " ),"") | D30: Kyzyl | E30: Кызыл | F30: =CHOOSE(Content!$A$1, $D30, $E30)&$C30 -> Kyzyl | H30: 6.87654 | I30: 6.59069 | J30: 7.45128 | K30: 7.60637 | L30: 8.03291 | M30: 8.50223 | N30: 7.41231 | O30: 7.80096 | P30: 5.97519 | Q30: 6.46636 | R30: 6.05264 | S30: 6.33171 | T30: 4.7818535 | U30: 4.7814133 | V30: 5.63867 | W30: 6.5817733 | X30: 5.2335381 | Y30: 4.9359944 | Z30: 4.6874389 | AA30: 5.3065891 | AB30: 5.3467347 | AC30: 5.3132309 | AD30: 4.6872862 | AE30: 4.6068397 | AF30: 5.7630346 | AG30: 5.5895832 | AH30: 4.3780374 | AI30: 3.9618361 | AJ30: 4.46411 | AK30: 5.7115951 | AL30: 0.021828444 | AN30: 7.1337 | AO30: 7.93123 | AP30: 6.20544 | AQ30: 5.45106 | AR30: 5.0316426 | AS30: 4.9897735 | AT30: 4.9195474 | AU30: -0.014073998
C31: =IFERROR(CHOOSE(B31, " ¹ "," ² "," ³ "," ⁴ "," ⁵ "," ⁶ "," ⁷ "," ⁸ "," ⁹ ", " ¹⁰ "," ¹¹ "," ¹² " ),"") | D31: Varvara | E31: Варваринское | F31: =CHOOSE(Content!$A$1, $D31, $E31)&$C31 -> Varvara | H31: 1.4018785 | I31: 1.3749495 | J31: 1.5341337 | K31: 1.5215233 | L31: 1.7162356 | M31: 1.6950999 | N31: 1.7247443 | O31: 1.6101088 | P31: 1.8392024 | Q31: 1.8764735 | R31: 1.7660715 | S31: 1.5900154 | T31: 1.8995675 | U31: 1.837265 | V31: 1.9316253 | W31: 1.5805379 | X31: 1.5933135 | Y31: 1.5657215 | Z31: 1.5975455 | AA31: 1.447809 | AB31: 1.5301909 | AC31: 1.6098307 | AD31: 1.2749238 | AE31: 1.3372716 | AF31: 1.2820704 | AG31: 1.3830453 | AH31: 1.390576 | AI31: 1.5051727 | AJ31: 1.5269794 | AK31: 1.555301 | AL31: 0.12454812 | AN31: 1.4566 | AO31: 1.6865422 | AP31: 1.767785 | AQ31: 1.811959 | AR31: 1.5503401 | AS31: 1.435434 | AT31: 1.3914922 | AU31: -0.030612203
C32: =IFERROR(CHOOSE(B32, " ¹ "," ² "," ³ "," ⁴ "," ⁵ "," ⁶ "," ⁷ "," ⁸ "," ⁹ ", " ¹⁰ "," ¹¹ "," ¹² " ),"") | D32: Kyzyl | E32: Кызыл | F32: =CHOOSE(Content!$A$1, $D32, $E32)&$C32 -> Kyzyl
C33: =IFERROR(CHOOSE(B33, " ¹ "," ² "," ³ "," ⁴ "," ⁵ "," ⁶ "," ⁷ "," ⁸ "," ⁹ ", " ¹⁰ "," ¹¹ "," ¹² " ),"") | D33: MINING | E33: ДОБЫЧА | F33: =CHOOSE(Content!$A$1, $D33, $E33)&$C33 -> MINING
C34: =IFERROR(CHOOSE(B34, " ¹ "," ² "," ³ "," ⁴ "," ⁵ "," ⁶ "," ⁷ "," ⁸ "," ⁹ ", " ¹⁰ "," ¹¹ "," ¹² " ),"") | D34: Waste mined, Kt | E34: Вскрыша, тыс. тонн | F34: =CHOOSE(Content!$A$1, $D34, $E34)&$C34 -> Waste mined, Kt | H34: 15854.561 | I34: 16451.945 | J34: 17546.174 | K34: 17598.108 | L34: 19240.202 | M34: 18774.58 | N34: 19956.232 | O34: 19715.578 | P34: 20226.188 | Q34: 20634.538 | R34: 21171.154 | S34: 20970.73 | T34: 20696.696 | U34: 20954.253 | V34: 20622.33 | W34: 20937.954 | X34: 19979.671 | Y34: 18752.866 | Z34: 21494.927 | AA34: 21034.16 | AB34: 22052.126 | AC34: 20346.226 | AD34: 18611.087 | AE34: 19627.859 | AF34: 17535.121 | AG34: 16294.405 | AH34: 17213.295 | AI34: 17009.602 | AJ34: 12387.034 | AK34: 12153.437 | AL34: -0.25413431 | AN34: 67450.789 | AO34: 77686.592 | AP34: 83002.609 | AQ34: 83211.234 | AR34: 81261.624 | AS34: 80637.299 | AT34: 68052.423 | AU34: -0.15606767
C35: =IFERROR(CHOOSE(B35, " ¹ "," ² "," ³ "," ⁴ "," ⁵ "," ⁶ "," ⁷ "," ⁸ "," ⁹ ", " ¹⁰ "," ¹¹ "," ¹² " ),"") | D35: Ore mined (open-pit), Kt | E35: Добыча руды (ОГР), тыс. тонн | F35: =CHOOSE(Content!$A$1, $D35, $E35)&$C35 -> Ore mined (open-pit), Kt | H35: 521.615 | I35: 511.12754 | J35: 527.19146 | K35: 440.0658 | L35: 523.194 | M35: 518.081 | N35: 513.283 | O35: 486.24483 | P35: 555.809 | Q35: 542.454 | R35: 573.88 | S35: 504.859 | T35: 584.422 | U35: 546.639 | V35: 558.069 | W35: 533.774 | X35: 517.818 | Y35: 647.072 | Z35: 643.573 | AA35: 618.09 | AB35: 582.102 | AC35: 602.878 | AD35: 610.783 | AE35: 612.767 | AF35: 623.843 | AG35: 616.654 | AH35: 607.214 | AI35: 594.339 | AJ35: 696.217 | AK35: 502.416 | AL35: -0.18525462 | AN35: 1999.9998 | AO35: 2040.8028 | AP35: 2177.002 | AQ35: 2222.904 | AR35: 2426.553 | AS35: 2408.53 | AT35: 2442.05 | AU35: 0.013917203
C36: =IFERROR(CHOOSE(B36, " ¹ "," ² "," ³ "," ⁴ "," ⁵ "," ⁶ "," ⁷ "," ⁸ "," ⁹ ", " ¹⁰ "," ¹¹ "," ¹² " ),"") | D36: Gold grade, g/t | E36: Содержание золота в руде, г/т | F36: =CHOOSE(Content!$A$1, $D36, $E36)&$C36 -> Gold grade, g/t | AN36: 7.38285 | AO36: 7.22122 | AP36: 6.242 | AQ36: 5.549295 | AR36: 5.0324431 | AS36: 5.0752546 | AT36: 4.9615863 | AU36: -0.022396568
C37: =IFERROR(CHOOSE(B37, " ¹ "," ² "," ³ "," ⁴ "," ⁵ "," ⁶ "," ⁷ "," ⁸ "," ⁹ ", " ¹⁰ "," ¹¹ "," ¹² " ),"") | D37: PROCESSING | E37: ПЕРЕРАБОТКА | F37: =CHOOSE(Content!$A$1, $D37, $E37)&$C37 -> PROCESSING
C38: =IFERROR(CHOOSE(B38, " ¹ "," ² "," ³ "," ⁴ "," ⁵ "," ⁶ "," ⁷ "," ⁸ "," ⁹ ", " ¹⁰ "," ¹¹ "," ¹² " ),"") | D38: Ore processed, Kt | E38: Переработка руды, тыс. тонн | F38: =CHOOSE(Content!$A$1, $D38, $E38)&$C38 -> Ore processed, Kt | H38: 476.41 | I38: 511.698 | J38: 502 | K38: 509.539 | L38: 525.549 | M38: 480.618 | N38: 509.255 | O38: 488.31178 | P38: 563.368 | Q38: 569.245 | R38: 550.375 | S38: 517.012 | T38: 550.546 | U38: 535.275 | V38: 565.095 | W38: 549.084 | X38: 560.09901 | Y38: 632.779 | Z38: 639.911 | AA38: 609.946 | AB38: 604.026 | AC38: 607.49 | AD38: 613.268 | AE38: 591.761 | AF38: 588.831 | AG38: 641.049 | AH38: 628.021 | AI38: 611.998 | AJ38: 624.742 | AK38: 610.38 | AL38: -0.047841897 | AN38: 1999.997 | AO38: 2003.7338 | AP38: 2200 | AQ38: 2200 | AR38: 2442.735 | AS38: 2416.545 | AT38: 2469.899 | AU38: 0.022078629
C39: =IFERROR(CHOOSE(B39, " ¹ "," ² "," ³ "," ⁴ "," ⁵ "," ⁶ "," ⁷ "," ⁸ "," ⁹ ", " ¹⁰ "," ¹¹ "," ¹² " ),"") | D39: Gold grade, g/t | E39: Содержание золота в руде, г/т | F39: =CHOOSE(Content!$A$1, $D39, $E39)&$C39 -> Gold grade, g/t | H39: 6.87654 | I39: 6.59069 | J39: 7.45128 | K39: 7.60637 | L39: 8.03291 | M39: 8.50223 | N39: 7.41231 | O39: 7.80096 | P39: 5.97519 | Q39: 6.46636 | R39: 6.05264 | S39: 6.33171 | T39: 4.7818535 | U39: 4.7814133 | V39: 5.63867 | W39: 6.5817733 | X39: 5.2335381 | Y39: 4.9359944 | Z39: 4.6874389 | AA39: 5.3065891 | AB39: 5.3467347 | AC39: 5.3132309 | AD39: 4.6872862 | AE39: 4.6068397 | AF39: 5.7630346 | AG39: 5.5895832 | AH39: 4.3780374 | AI39: 3.9618361 | AJ39: 4.46411 | AK39: 5.7115951 | AL39: 0.021828444 | AN39: 7.1337 | AO39: 7.93123 | AP39: 6.20544 | AQ39: 5.45106 | AR39: 5.0316426 | AS39: 4.9897735 | AT39: 4.9195474 | AU39: -0.014073998
C40: =IFERROR(CHOOSE(B40, " ¹ "," ² "," ³ "," ⁴ "," ⁵ "," ⁶ "," ⁷ "," ⁸ "," ⁹ ", " ¹⁰ "," ¹¹ "," ¹² " ),"") | D40: Gold recovery | E40: Коэффициент извлечения золота | F40: =CHOOSE(Content!$A$1, $D40, $E40)&$C40 -> Gold recovery | H40: 0.868071 | I40: 0.8778266 | J40: 0.883 | K40: 0.8800126 | L40: 0.8723479 | M40: 0.8722467 | N40: 0.8901223 | O40: 0.8862443 | P40: 0.8882976 | Q40: 0.899391 | R40: 0.8836516 | S40: 0.8725022 | T40: 0.87699401 | U40: 0.88987689 | V40: 0.89185595 | W40: 0.89416512 | X40: 0.88503949 | Y40: 0.88985029 | Z40: 0.88808804 | AA40: 0.86753887 | AB40: 0.88243368 | AC40: 0.89167142 | AD40: 0.89219319 | AE40: 0.87719858 | AF40: 0.88840663 | AG40: 0.89720129 | AH40: 0.89399747 | AI40: 0.87009575 | AJ40: 0.88232925 | AK40: 0.89242773 | AL40: -0.0053204949 | AN40: 0.8775512 | AO40: 0.8798747 | AP40: 0.8863675 | AQ40: 0.88886688 | AR40: 0.88239734 | AS40: 0.88590416 | AT40: 0.88861137 | AU40: 0.0030558798
...

Sheet Production HY
C1: =IFERROR(CHOOSE(B1, " ¹ "," ² "," ³ "," ⁴ "," ⁵ "," ⁶ "," ⁷ "," ⁸ "," ⁹ ", " ¹⁰ "," ¹¹ "," ¹² " ),"") | D1: Group production statistics | E1: Производственная статистика Группы | F1: =CHOOSE(Content!$A$1, $D1, $E1)&$C1 -> Group production statistics
C2: =IFERROR(CHOOSE(B2, " ¹ "," ² "," ³ "," ⁴ "," ⁵ "," ⁶ "," ⁷ "," ⁸ "," ⁹ ", " ¹⁰ "," ¹¹ "," ¹² " ),"") | D2: ="" | E2: ="" | F2: =CHOOSE(Content!$A$1, $D2, $E2)&$C2 | H2: =CHOOSE(Content!$A$1, "H"&MONTH(H3)/6, MONTH(H3)/6&"П")&" "&YEAR(H3) -> H1 2019 | I2: =CHOOSE(Content!$A$1, "H"&MONTH(I3)/6, MONTH(I3)/6&"П")&" "&YEAR(I3) -> H2 2019 | J2: =CHOOSE(Content!$A$1, "H"&MONTH(J3)/6, MONTH(J3)/6&"П")&" "&YEAR(J3) -> H1 2020 | K2: =CHOOSE(Content!$A$1, "H"&MONTH(K3)/6, MONTH(K3)/6&"П")&" "&YEAR(K3) -> H2 2020 | L2: =CHOOSE(Content!$A$1, "H"&MONTH(L3)/6, MONTH(L3)/6&"П")&" "&YEAR(L3) -> H1 2021 | M2: =CHOOSE(Content!$A$1, "H"&MONTH(M3)/6, MONTH(M3)/6&"П")&" "&YEAR(M3) -> H2 2021 | N2: =CHOOSE(Content!$A$1, "H"&MONTH(N3)/6, MONTH(N3)/6&"П")&" "&YEAR(N3) -> H1 2022 | O2: =CHOOSE(Content!$A$1, "H"&MONTH(O3)/6, MONTH(O3)/6&"П")&" "&YEAR(O3) -> H2 2022 | ... V2: =CHOOSE(Content!$A$1, "H"&MONTH(V3)/6, MONTH(V3)/6&"П")&" "&YEAR(V3) -> H1 2026 | W2: =CHOOSE(Content!$A$1, "Y-o-Y, %", "г/г, %" ) -> Y-o-Y, %
C3: =IFERROR(CHOOSE(B3, " ¹ "," ² "," ³ "," ⁴ "," ⁵ "," ⁶ "," ⁷ "," ⁸ "," ⁹ ", " ¹⁰ "," ¹¹ "," ¹² " ),"") | D3: ="" | E3: ="" | F3: =CHOOSE(Content!$A$1, $D3, $E3)&$C3 | H3: =DATE(2019, 6,30) -> 43646 | I3: =EOMONTH(H3,6) -> 43830 | J3: =EOMONTH(I3,6) -> 44012 | K3: =EOMONTH(J3,6) -> 44196 | L3: =EOMONTH(K3,6) -> 44377 | M3: =EOMONTH(L3,6) -> 44561 | N3: =EOMONTH(M3,6) -> 44742 | O3: =EOMONTH(N3,6) -> 44926 | P3: =EOMONTH(O3,6) -> 45107 | ... V3: =EOMONTH(U3,6) -> 46203
C4: =IFERROR(CHOOSE(B4, " ¹ "," ² "," ³ "," ⁴ "," ⁵ "," ⁶ "," ⁷ "," ⁸ "," ⁹ ", " ¹⁰ "," ¹¹ "," ¹² " ),"") | D4: Consolidated highlights | E4: Консолидированные результаты | F4: =CHOOSE(Content!$A$1, $D4, $E4)&$C4 -> Consolidated highlights
C5: =IFERROR(CHOOSE(B5, " ¹ "," ² "," ³ "," ⁴ "," ⁵ "," ⁶ "," ⁷ "," ⁸ "," ⁹ ", " ¹⁰ "," ¹¹ "," ¹² " ),"") | D5: Waste mined, Kt | E5: Вскрыша, тыс. тонн | F5: =CHOOSE(Content!$A$1, $D5, $E5)&$C5 -> Waste mined, Kt | H5: 55025.63 | I5: 57778.041 | J5: 58288.631 | K5: 60016.655 | L5: 60410.394 | M5: 64633.315 | N5: 62949.436 | O5: 63553.337 | P5: 60261.949 | Q5: 61717.427 | R5: 64401.096 | S5: 64560.15 | T5: 60713.351 | U5: 62490.257 | V5: 49327.315 | W5: -0.1875376
C6: =IFERROR(CHOOSE(B6, " ¹ "," ² "," ³ "," ⁴ "," ⁵ "," ⁶ "," ⁷ "," ⁸ "," ⁹ ", " ¹⁰ "," ¹¹ "," ¹² " ),"") | D6: Ore mined, Kt | E6: Добыча руды, тыс. тонн | F6: =CHOOSE(Content!$A$1, $D6, $E6)&$C6 -> Ore mined, Kt | H6: 2971.0055 | I6: 2972.3853 | J6: 2525.027 | K6: 2328.0488 | L6: 3004.491 | M6: 2796.489 | N6: 3200.841 | O6: 2879.316 | P6: 2688.886 | Q6: 2571.358 | R6: 2483.787 | S6: 2717.003 | T6: 2579.023 | U6: 2720.69 | V6: 2768.45 | W6: 0.073449132
C7: =IFERROR(CHOOSE(B7, " ¹ "," ² "," ³ "," ⁴ "," ⁵ "," ⁶ "," ⁷ "," ⁸ "," ⁹ ", " ¹⁰ "," ¹¹ "," ¹² " ),"") | D7: Open-pit | E7: Открытые горные работы | F7: =CHOOSE(Content!$A$1, $D7, $E7)&$C7 -> Open-pit | H7: 2971.0055 | I7: 2972.3853 | J7: 2525.027 | K7: 2328.0488 | L7: 3004.491 | M7: 2796.489 | N7: 3200.841 | O7: 2879.316 | P7: 2688.886 | Q7: 2571.358 | R7: 2483.787 | S7: 2717.003 | T7: 2579.023 | U7: 2720.69 | V7: 2768.45 | W7: 0.073449132
C8: =IFERROR(CHOOSE(B8, " ¹ "," ² "," ³ "," ⁴ "," ⁵ "," ⁶ "," ⁷ "," ⁸ "," ⁹ ", " ¹⁰ "," ¹¹ "," ¹² " ),"") | D8: Ore processed, Kt | E8: Переработка руды, тыс. тонн | F8: =CHOOSE(Content!$A$1, $D8, $E8)&$C8 -> Ore processed, Kt | H8: 2800.323 | I8: 2749.884 | J8: 2852.5229 | K8: 2866.3609 | L8: 3065.8597 | M8: 3013.5738 | N8: 3054.5556 | O8: 3096.789 | P8: 3114.8945 | Q8: 3226.2048 | R8: 3145.5006 | S8: 3226.9849 | T8: 3216.3412 | U8: 3305.647 | V8: 3218.5 | W8: 0.00067120989
C9: =IFERROR(CHOOSE(B9, " ¹ "," ² "," ³ "," ⁴ "," ⁵ "," ⁶ "," ⁷ "," ⁸ "," ⁹ ", " ¹⁰ "," ¹¹ "," ¹² " ),"") | D9: Gold grade processed, g/t | E9: Содержание золота в перерабатываемой руде, г/т | F9: =CHOOSE(Content!$A$1, $D9, $E9)&$C9 -> Gold grade processed, g/t | H9: 3.4461811 | I9: 3.274762 | J9: 3.0910802 | K9: 2.9032605 | L9: 3.0538377 | M9: 3.3233839 | N9: 3.1661456 | O9: 2.9183838 | P9: 2.8594922 | Q9: 2.8653799 | R9: 3.0579629 | S9: 2.5542565 | T9: 2.9924303 | U9: 2.4698823 | V9: 2.8992778 | W9: -0.031129374
C10: =IFERROR(CHOOSE(B10, " ¹ "," ² "," ³ "," ⁴ "," ⁵ "," ⁶ "," ⁷ "," ⁸ "," ⁹ ", " ¹⁰ "," ¹¹ "," ¹² " ),"") | D10: Silver grade processed, g/t | E10: Содержание серебра в перерабатываемой руде, г/т | F10: =CHOOSE(Content!$A$1, $D10, $E10)&$C10 -> Silver grade processed, g/t | H10: 0.87300585 | I10: 1.033323 | J10: 1.1679798 | K10: 1.6261055 | L10: 1.425009 | M10: 0.7434678 | N10: 0.67184525 | O10: 0.65159099 | P10: 0.61976754 | Q10: 0.42520244 | R10: 0.41802749 | S10: 0.42242027 | T10: 0.26471878 | U10: 0.3 | V10: 0.22382675 | W10: -0.15447346
C11: =IFERROR(CHOOSE(B11, " ¹ "," ² "," ³ "," ⁴ "," ⁵ "," ⁶ "," ⁷ "," ⁸ "," ⁹ ", " ¹⁰ "," ¹¹ "," ¹² " ),"") | D11: GE grade processed, g/t | E11: Содержание в перерабатываемой руде в золотом эквиваленте, г/т | F11: =CHOOSE(Content!$A$1, $D11, $E11)&$C11 -> GE grade processed, g/t | H11: 3.4570937 | I11: 3.2876786 | J11: 3.10568 | K11: 2.9235868 | L11: 3.8013713 | M11: 3.3326773 | N11: 3.1745437 | O11: 3.3326773 | P11: 2.9265287 | Q11: 2.8706949 | R11: 2.9613652 | S11: 2.5595367 | T11: 3.0145129 | U11: 2.4736323 | V11: 2.9020756 | W11: -0.037298655
C12: =IFERROR(CHOOSE(B12, " ¹ "," ² "," ³ "," ⁴ "," ⁵ "," ⁶ "," ⁷ "," ⁸ "," ⁹ ", " ¹⁰ "," ¹¹ "," ¹² " ),"") | D12: TOTAL PRODUCTION | E12: ИТОГО ПРОИЗВОДСТВО | F12: =CHOOSE(Content!$A$1, $D12, $E12)&$C12 -> TOTAL PRODUCTION
C13: =IFERROR(CHOOSE(B13, " ¹ "," ² "," ³ "," ⁴ "," ⁵ "," ⁶ "," ⁷ "," ⁸ "," ⁹ ", " ¹⁰ "," ¹¹ "," ¹² " ),"") | D13: Gold, Koz | E13: Золото, тыс. унций | F13: =CHOOSE(Content!$A$1, $D13, $E13)&$C13 -> Gold, Koz | H13: 229.39664 | I13: 250.80213 | J13: 297.17929 | K13: 242.94102 | L13: 292.47178 | M13: 264.66698 | N13: 243.63178 | O13: 296.97354 | P13: 213.22997 | Q13: 271.89222 | R13: 251.83565 | S13: 237.45618 | T13: 122.78222 | U13: 271.03724 | V13: 210.35482 | W13: 0.71323519
C14: =IFERROR(CHOOSE(B14, " ¹ "," ² "," ³ "," ⁴ "," ⁵ "," ⁶ "," ⁷ "," ⁸ "," ⁹ ", " ¹⁰ "," ¹¹ "," ¹² " ),"") | D14: Silver, Moz | E14: Серебро, млн унций | F14: =CHOOSE(Content!$A$1, $D14, $E14)&$C14 -> Silver, Moz | H14: 0.015718702 | I14: 0.015718702 | J14: 0.017531329 | K14: 0.015356457 | L14: 0.014902316 | M14: 0.016931042 | N14: 0.019315951 | O14: 0.037129226 | P14: 0.017436291 | Q14: 0.013337917 | R14: 0.0095655919 | S14: 0.0091897886 | T14: 0.006765058 | U14: 0.0078591337 | V14: 0.0069104269 | W14: 0.021488195
C15: =IFERROR(CHOOSE(B15, " ¹ "," ² "," ³ "," ⁴ "," ⁵ "," ⁶ "," ⁷ "," ⁸ "," ⁹ ", " ¹⁰ "," ¹¹ "," ¹² " ),"") | D15: Copper, t | E15: Медь, тонн | F15: =CHOOSE(Content!$A$1, $D15, $E15)&$C15 -> Copper, t | H15: 1264.4378 | I15: 1021.2633 | J15: 784.85805 | K15: 759.50408 | L15: 1140.6256 | M15: 760.69779 | N15: 815.7462 | O15: 848.24513 | P15: 1084.8454 | Q15: 1077.9821 | R15: 935.58655 | S15: 903.43244 | T15: 861.09261 | U15: 502.26173 | V15: 392.63668 | W15: -0.54402503
C16: =IFERROR(CHOOSE(B16, " ¹ "," ² "," ³ "," ⁴ "," ⁵ "," ⁶ "," ⁷ "," ⁸ "," ⁹ ", " ¹⁰ "," ¹¹ "," ¹² " ),"") | D16: Gold equivalent, Koz | E16: Золотой эквивалент, тыс. унций | F16: =CHOOSE(Content!$A$1, $D16, $E16)&$C16 -> Gold equivalent, Koz | H16: 229.59313 | I16: 250.99861 | J16: 297.39843 | K16: 243.13297 | L16: 292.65806 | M16: 264.87862 | N16: 243.87323 | O16: 297.43766 | P16: 213.44792 | Q16: 272.05894 | R16: 251.95522 | S16: 237.57105 | T16: 122.86679 | U16: 271.13548 | V16: 210.4412 | W16: 0.71275909
C17: =IFERROR(CHOOSE(B17, " ¹ "," ² "," ³ "," ⁴ "," ⁵ "," ⁶ "," ⁷ "," ⁸ "," ⁹ ", " ¹⁰ "," ¹¹ "," ¹² " ),"") | D17: Ag/Au ratio | E17: коэффициент Ag/Au | F17: =CHOOSE(Content!$A$1, $D17, $E17)&$C17 -> Ag/Au ratio | H17: 80 | I17: 80 | J17: 80 | K17: 80 | L17: 80 | M17: 80 | N17: 80 | O17: 80 | P17: 80 | Q17: 80 | R17: 80 | S17: 80 | T17: 80 | U17: 80 | V17: 80 | W17: 80
C18: =IFERROR(CHOOSE(B18, " ¹ "," ² "," ³ "," ⁴ "," ⁵ "," ⁶ "," ⁷ "," ⁸ "," ⁹ ", " ¹⁰ "," ¹¹ "," ¹² " ),"") | D18: Gold production by mine, Koz | E18: Производство золота в разбивке по предприятиям, тыс. унций | F18: =CHOOSE(Content!$A$1, $D18, $E18)&$C18 -> Gold production by mine, Koz
C19: =IFERROR(CHOOSE(B19, " ¹ "," ² "," ³ "," ⁴ "," ⁵ "," ⁶ "," ⁷ "," ⁸ "," ⁹ ", " ¹⁰ "," ¹¹ "," ¹² " ),"") | D19: Kyzyl | E19: Кызыл | F19: =CHOOSE(Content!$A$1, $D19, $E19)&$C19 -> Kyzyl | H19: 159.46222 | I19: 184.02041 | J19: 212.84251 | K19: 168.73038 | L19: 182.2825 | M19: 177.65125 | N19: 134.78126 | O19: 195.18132 | P19: 127.69952 | Q19: 188.36583 | R19: 168.91826 | S19: 150.85652 | T19: 47.16317 | U19: 186.32604 | V19: 121.99188 | W19: 1.5865921
C20: =IFERROR(CHOOSE(B20, " ¹ "," ² "," ³ "," ⁴ "," ⁵ "," ⁶ "," ⁷ "," ⁸ "," ⁹ ", " ¹⁰ "," ¹¹ "," ¹² " ),"") | D20: Varvara | E20: Варваринское | F20: =CHOOSE(Content!$A$1, $D20, $E20)&$C20 -> Varvara | H20: 69.934423 | I20: 66.781722 | J20: 84.336785 | K20: 74.210635 | L20: 110.18929 | M20: 87.015728 | N20: 108.85052 | O20: 101.79222 | P20: 85.530452 | Q20: 83.52639 | R20: 82.917398 | S20: 86.599665 | T20: 75.619053 | U20: 84.711201 | V20: 88.362943 | W20: 0.1685275
C21: =IFERROR(CHOOSE(B21, " ¹ "," ² "," ³ "," ⁴ "," ⁵ "," ⁶ "," ⁷ "," ⁸ "," ⁹ ", " ¹⁰ "," ¹¹ "," ¹² " ),"") | D21: Total | E21: Итого | F21: =CHOOSE(Content!$A$1, $D21, $E21)&$C21 -> Total | H21: 229.39664 | I21: 250.80213 | J21: 297.17929 | K21: 242.94102 | L21: 292.47178 | M21: 264.66698 | N21: 243.63178 | O21: 296.97354 | P21: 213.22997 | Q21: 271.89222 | R21: 251.83565 | S21: 237.45618 | T21: 122.78222 | U21: 271.03724 | V21: 210.35482 | W21: 0.71323519
C22: =IFERROR(CHOOSE(B22, " ¹ "," ² "," ³ "," ⁴ "," ⁵ "," ⁶ "," ⁷ "," ⁸ "," ⁹ ", " ¹⁰ "," ¹¹ "," ¹² " ),"") | D22: Silver production by mine, Moz | E22: Производство серебра в разбивке по предприятиям, млн унций | F22: =CHOOSE(Content!$A$1, $D22, $E22)&$C22 -> Silver production by mine, Moz
C23: =IFERROR(CHOOSE(B23, " ¹ "," ² "," ³ "," ⁴ "," ⁵ "," ⁶ "," ⁷ "," ⁸ "," ⁹ ", " ¹⁰ "," ¹¹ "," ¹² " ),"") | D23: Varvara | E23: Варваринское | F23: =CHOOSE(Content!$A$1, $D23, $E23)&$C23 -> Varvara | H23: 0.015718702 | I23: 0.015718702 | J23: 0.017531329 | K23: 0.015356457 | L23: 0.014902316 | M23: 0.016931042 | N23: 0.019315951 | O23: 0.037129226 | P23: 0.017436291 | Q23: 0.013337917 | R23: 0.0095655919 | S23: 0.0091897886 | T23: 0.006765058 | U23: 0.0078591337 | V23: 0.0069104269 | W23: 0.021488195
C24: =IFERROR(CHOOSE(B24, " ¹ "," ² "," ³ "," ⁴ "," ⁵ "," ⁶ "," ⁷ "," ⁸ "," ⁹ ", " ¹⁰ "," ¹¹ "," ¹² " ),"") | D24: Silver, Moz | E24: Серебро, млн унций | F24: =CHOOSE(Content!$A$1, $D24, $E24)&$C24 -> Silver, Moz | H24: 0.015718702 | I24: 0.015718702 | J24: 0.017531329 | K24: 0.015356457 | L24: 0.014902316 | M24: 0.016931042 | N24: 0.019315951 | O24: 0.037129226 | P24: 0.017436291 | Q24: 0.013337917 | R24: 0.0095655919 | S24: 0.0091897886 | T24: 0.006765058 | U24: 0.0078591337 | V24: 0.0069104269 | W24: 0.021488195
C25: =IFERROR(CHOOSE(B25, " ¹ "," ² "," ³ "," ⁴ "," ⁵ "," ⁶ "," ⁷ "," ⁸ "," ⁹ ", " ¹⁰ "," ¹¹ "," ¹² " ),"") | D25: Gold equivalent production by mine, GE Koz | E25: Производство по предприятиям, тыс. унций в золотом эквиваленте | F25: =CHOOSE(Content!$A$1, $D25, $E25)&$C25 -> Gold equivalent production by mine, GE Koz
C26: =IFERROR(CHOOSE(B26, " ¹ "," ² "," ³ "," ⁴ "," ⁵ "," ⁶ "," ⁷ "," ⁸ "," ⁹ ", " ¹⁰ "," ¹¹ "," ¹² " ),"") | D26: Kyzyl | E26: Кызыл | F26: =CHOOSE(Content!$A$1, $D26, $E26)&$C26 -> Kyzyl | H26: 159.46222 | I26: 184.02041 | J26: 212.84251 | K26: 168.73038 | L26: 182.2825 | M26: 177.65125 | N26: 134.78126 | O26: 195.18132 | P26: 127.69952 | Q26: 188.36583 | R26: 170.01531 | S26: 150.85652 | T26: 47.16317 | U26: 186.32604 | V26: 121.99188 | W26: 1.5865921
C27: =IFERROR(CHOOSE(B27, " ¹ "," ² "," ³ "," ⁴ "," ⁵ "," ⁶ "," ⁷ "," ⁸ "," ⁹ ", " ¹⁰ "," ¹¹ "," ¹² " ),"") | D27: Varvara | E27: Варваринское | F27: =CHOOSE(Content!$A$1, $D27, $E27)&$C27 -> Varvara | H27: 70.130907 | I27: 66.978205 | J27: 84.555926 | K27: 74.40259 | L27: 110.37557 | M27: 87.227366 | N27: 109.09197 | O27: 102.25633 | P27: 85.748406 | Q27: 83.693114 | R27: 83.407931 | S27: 86.714537 | T27: 75.703616 | U27: 84.80944 | V27: 88.606744 | W27: 0.17044268
C28: =IFERROR(CHOOSE(B28, " ¹ "," ² "," ³ "," ⁴ "," ⁵ "," ⁶ "," ⁷ "," ⁸ "," ⁹ ", " ¹⁰ "," ¹¹ "," ¹² " ),"") | D28: Total | E28: Итого | F28: =CHOOSE(Content!$A$1, $D28, $E28)&$C28 -> Total | H28: 229.59313 | I28: 250.99861 | J28: 297.39843 | K28: 243.13297 | L28: 292.65806 | M28: 264.87862 | N28: 243.87323 | O28: 297.43766 | P28: 213.44792 | Q28: 272.05894 | R28: 251.95522 | S28: 237.57105 | T28: 122.86679 | U28: 271.13548 | V28: 210.4412 | W28: 0.71275909
C29: =IFERROR(CHOOSE(B29, " ¹ "," ² "," ³ "," ⁴ "," ⁵ "," ⁶ "," ⁷ "," ⁸ "," ⁹ ", " ¹⁰ "," ¹¹ "," ¹² " ),"") | D29: Gold equivalent grade in ore processed by mine, GE g/t | E29: Среднее содержание в перерабатываемой руде,г/т золотого эквивалента | F29: =CHOOSE(Content!$A$1, $D29, $E29)&$C29 -> Gold equivalent grade in ore processed by mine, GE g/t
C30: =IFERROR(CHOOSE(B30, " ¹ "," ² "," ³ "," ⁴ "," ⁵ "," ⁶ "," ⁷ "," ⁸ "," ⁹ ", " ¹⁰ "," ¹¹ "," ¹² " ),"") | D30: Kyzyl | E30: Кызыл | F30: =CHOOSE(Content!$A$1, $D30, $E30)&$C30 -> Kyzyl | H30: 6.7285108 | I30: 7.5294029 | J30: 8.25709 | K30: 7.6025553 | L30: 6.22205 | M30: 6.1878136 | N30: 4.7816365 | O30: 6.1034453 | P30: 5.0757018 | Q30: 4.989592 | R30: 5.3299349 | S30: 4.6477809 | T30: 5.6726267 | U30: 4.1726257 | V30: 5.0805997 | W30: -0.10436559
C31: =IFERROR(CHOOSE(B31, " ¹ "," ² "," ³ "," ⁴ "," ⁵ "," ⁶ "," ⁷ "," ⁸ "," ⁹ ", " ¹⁰ "," ¹¹ "," ¹² " ),"") | D31: Varvara | E31: Варваринское | F31: =CHOOSE(Content!$A$1, $D31, $E31)&$C31 -> Varvara | H31: 1.3882977 | I31: 1.5278136 | J31: 1.7049726 | K31: 1.6683268 | L31: 1.8584439 | M31: 1.6770976 | N31: 1.8675833 | O31: 1.7610565 | P31: 1.5794685 | Q31: 1.5220125 | R31: 1.5701547 | S31: 1.3065747 | T31: 1.3330372 | U31: 1.4477068 | V31: 1.5408889 | W31: 0.15592344
C32: =IFERROR(CHOOSE(B32, " ¹ "," ² "," ³ "," ⁴ "," ⁵ "," ⁶ "," ⁷ "," ⁸ "," ⁹ ", " ¹⁰ "," ¹¹ "," ¹² " ),"") | D32: Kyzyl | E32: Кызыл | F32: =CHOOSE(Content!$A$1, $D32, $E32)&$C32 -> Kyzyl
C33: =IFERROR(CHOOSE(B33, " ¹ "," ² "," ³ "," ⁴ "," ⁵ "," ⁶ "," ⁷ "," ⁸ "," ⁹ ", " ¹⁰ "," ¹¹ "," ¹² " ),"") | D33: MINING | E33: ДОБЫЧА | F33: =CHOOSE(Content!$A$1, $D33, $E33)&$C33 -> MINING
C34: =IFERROR(CHOOSE(B34, " ¹ "," ² "," ³ "," ⁴ "," ⁵ "," ⁶ "," ⁷ "," ⁸ "," ⁹ ", " ¹⁰ "," ¹¹ "," ¹² " ),"") | D34: Waste mined, Kt | E34: Вскрыша, тыс. тонн | F34: =CHOOSE(Content!$A$1, $D34, $E34)&$C34 -> Waste mined, Kt | H34: 32306.506 | I34: 35144.282 | J34: 38014.782 | K34: 39671.81 | L34: 40861 | M34: 42141.883 | N34: 41650.949 | O34: 41560.285 | P34: 38732.537 | Q34: 42529.087 | R34: 42398.352 | S34: 38238.946 | T34: 33829.526 | U34: 34222.897 | V34: 24540.471 | W34: -0.27458423
C35: =IFERROR(CHOOSE(B35, " ¹ "," ² "," ³ "," ⁴ "," ⁵ "," ⁶ "," ⁷ "," ⁸ "," ⁹ ", " ¹⁰ "," ¹¹ "," ¹² " ),"") | D35: Ore mined (open-pit), Kt | E35: Добыча руды (ОГР), тыс. тонн | F35: =CHOOSE(Content!$A$1, $D35, $E35)&$C35 -> Ore mined (open-pit), Kt | H35: 1032.7425 | I35: 967.25726 | J35: 1041.275 | K35: 999.52783 | L35: 1098 | M35: 1078.739 | N35: 1131.061 | O35: 1091.843 | P35: 1164.89 | Q35: 1261.663 | R35: 1184.98 | S35: 1223.55 | T35: 1240.497 | U35: 1201.553 | V35: 1198.633 | W35: -0.033747764
C36: =IFERROR(CHOOSE(B36, " ¹ "," ² "," ³ "," ⁴ "," ⁵ "," ⁶ "," ⁷ "," ⁸ "," ⁹ ", " ¹⁰ "," ¹¹ "," ¹² " ),"") | D36: Gold grade, g/t | E36: Содержание золота в руде, г/т | F36: =CHOOSE(Content!$A$1, $D36, $E36)&$C36 -> Gold grade, g/t
C37: =IFERROR(CHOOSE(B37, " ¹ "," ² "," ³ "," ⁴ "," ⁵ "," ⁶ "," ⁷ "," ⁸ "," ⁹ ", " ¹⁰ "," ¹¹ "," ¹² " ),"") | D37: PROCESSING | E37: ПЕРЕРАБОТКА | F37: =CHOOSE(Content!$A$1, $D37, $E37)&$C37 -> PROCESSING
C38: =IFERROR(CHOOSE(B38, " ¹ "," ² "," ³ "," ⁴ "," ⁵ "," ⁶ "," ⁷ "," ⁸ "," ⁹ ", " ¹⁰ "," ¹¹ "," ¹² " ),"") | D38: Ore processed, Kt | E38: Переработка руды, тыс. тонн | F38: =CHOOSE(Content!$A$1, $D38, $E38)&$C38 -> Ore processed, Kt | H38: 988.108 | I38: 1011.539 | J38: 1006.167 | K38: 997.56678 | L38: 1132.613 | M38: 1067.387 | N38: 1085.821 | O38: 1114.179 | P38: 1192.878 | Q38: 1249.857 | R38: 1211.516 | S38: 1205.029 | T38: 1229.88 | U38: 1240.019 | V38: 1235.122 | W38: 0.0042622044
C39: =IFERROR(CHOOSE(B39, " ¹ "," ² "," ³ "," ⁴ "," ⁵ "," ⁶ "," ⁷ "," ⁸ "," ⁹ ", " ¹⁰ "," ¹¹ "," ¹² " ),"") | D39: Gold grade, g/t | E39: Содержание золота в руде, г/т | F39: =CHOOSE(Content!$A$1, $D39, $E39)&$C39 -> Gold grade, g/t | H39: 6.7285108 | I39: 7.5294029 | J39: 8.25709 | K39: 7.6025553 | L39: 6.22205 | M39: 6.1878136 | N39: 4.7816365 | O39: 6.1034453 | P39: 5.0757018 | Q39: 4.989592 | R39: 5.3299349 | S39: 4.6477809 | T39: 5.6726267 | U39: 4.1726257 | V39: 5.0805997 | W39: -0.10436559
C40: =IFERROR(CHOOSE(B40, " ¹ "," ² "," ³ "," ⁴ "," ⁵ "," ⁶ "," ⁷ "," ⁸ "," ⁹ ", " ¹⁰ "," ¹¹ "," ¹² " ),"") | D40: Gold recovery | E40: Коэффициент извлечения золота | F40: =CHOOSE(Content!$A$1, $D40, $E40)&$C40 -> Gold recovery | H40: 0.8730195 | I40: 0.88149517 | J40: 0.8722981 | K40: 0.88822401 | L40: 0.894092 | M40: 0.87825115 | N40: 0.88334456 | O40: 0.89299394 | P40: 0.88759144 | Q40: 0.87805979 | R40: 0.88706575 | S40: 0.88482969 | T40: 0.89299066 | U40: 0.88220103 | V40: 0.88731978 | W40: -0.0063504357
...

Sheet Reserves and Resources
C1: =IFERROR(CHOOSE(B1, " ¹ "," ² "," ³ "," ⁴ "," ⁵ "," ⁶ "," ⁷ "," ⁸ "," ⁹ ", " ¹⁰ "," ¹¹ "," ¹² " ),"") | D1: Summary Reserves and Resources | E1: Суммарная таблица Минеральных Ресурсов и Рудных Запасов | F1: =CHOOSE(Content!$A$1, $D1, $E1)&$C1 -> Summary Reserves and Resources
C2: =IFERROR(CHOOSE(B2, " ¹ "," ² "," ³ "," ⁴ "," ⁵ "," ⁶ "," ⁷ "," ⁸ "," ⁹ ", " ¹⁰ "," ¹¹ "," ¹² " ),"") | D2: as at 1 January 2026 | E2: данные на 1 января 2026 г. | F2: =CHOOSE(Content!$A$1, $D2, $E2)&$C2 -> as at 1 January 2026
C3: =IFERROR(CHOOSE(B3, " ¹ "," ² "," ³ "," ⁴ "," ⁵ "," ⁶ "," ⁷ "," ⁸ "," ⁹ ", " ¹⁰ "," ¹¹ "," ¹² " ),"") | D3: ="" | E3: ="" | F3: =CHOOSE(Content!$A$1, $D3, $E3)&$C3 | H3: =CHOOSE(Content!$A$1,$D132,$E132) -> Tonnage, Kt | I3: =CHOOSE(Content!$A$1,$D133,$E133) -> GE grade, g/t | J3: =CHOOSE(Content!$A$1,$D134,$E134) -> Gold, Koz | K3: =CHOOSE(Content!$A$1,$D135,$E135) -> Copper, Kt | L3: =CHOOSE(Content!$A$1,$D136,$E136) -> GE, Koz
C4: =IFERROR(CHOOSE(B4, " ¹ "," ² "," ³ "," ⁴ "," ⁵ "," ⁶ "," ⁷ "," ⁸ "," ⁹ ", " ¹⁰ "," ¹¹ "," ¹² " ),"") | D4: Summary | E4: Сведения о запасах и ресурсах | F4: =CHOOSE(Content!$A$1, $D4, $E4)&$C4 -> Summary
C5: =IFERROR(CHOOSE(B5, " ¹ "," ² "," ³ "," ⁴ "," ⁵ "," ⁶ "," ⁷ "," ⁸ "," ⁹ ", " ¹⁰ "," ¹¹ "," ¹² " ),"") | D5: Ore Reserves | E5: Рудные запасы | F5: =CHOOSE(Content!$A$1, $D5, $E5)&$C5 -> Ore Reserves
C6: =IFERROR(CHOOSE(B6, " ¹ "," ² "," ³ "," ⁴ "," ⁵ "," ⁶ "," ⁷ "," ⁸ "," ⁹ ", " ¹⁰ "," ¹¹ "," ¹² " ),"") | D6: Proved | E6: Доказанные | F6: =CHOOSE(Content!$A$1, $D6, $E6)&$C6 -> Proved | H6: 28780 | I6: 1.4972896 | J6: 1361.2382 | K6: 27.237639 | L6: 1385.4388
C7: =IFERROR(CHOOSE(B7, " ¹ "," ² "," ³ "," ⁴ "," ⁵ "," ⁶ "," ⁷ "," ⁸ "," ⁹ ", " ¹⁰ "," ¹¹ "," ¹² " ),"") | D7: Probable | E7: Вероятные | F7: =CHOOSE(Content!$A$1, $D7, $E7)&$C7 -> Probable | H7: 93600 | I7: 3.4912218 | J7: 10435.607 | K7: 20.211521 | L7: 10506.16
C8: =IFERROR(CHOOSE(B8, " ¹ "," ² "," ³ "," ⁴ "," ⁵ "," ⁶ "," ⁷ "," ⁸ "," ⁹ ", " ¹⁰ "," ¹¹ "," ¹² " ),"") | D8: Proved + Probable | E8: Доказанные + Вероятные | F8: =CHOOSE(Content!$A$1, $D8, $E8)&$C8 -> Proved + Probable | H8: 122380 | I8: 3.0223105 | J8: 11796.845 | K8: 47.44916 | L8: 11891.599
C9: =IFERROR(CHOOSE(B9, " ¹ "," ² "," ³ "," ⁴ "," ⁵ "," ⁶ "," ⁷ "," ⁸ "," ⁹ ", " ¹⁰ "," ¹¹ "," ¹² " ),"") | D9: Mineral Resources | E9: Минеральные ресурсы | F9: =CHOOSE(Content!$A$1, $D9, $E9)&$C9 -> Mineral Resources
C10: =IFERROR(CHOOSE(B10, " ¹ "," ² "," ³ "," ⁴ "," ⁵ "," ⁶ "," ⁷ "," ⁸ "," ⁹ ", " ¹⁰ "," ¹¹ "," ¹² " ),"") | D10: Measured | E10: Оцененные | F10: =CHOOSE(Content!$A$1, $D10, $E10)&$C10 -> Measured | H10: 6030 | I10: 1.2180265 | J10: 236.3654 | K10: 3.3408876 | L10: 236.1374
C11: =IFERROR(CHOOSE(B11, " ¹ "," ² "," ³ "," ⁴ "," ⁵ "," ⁶ "," ⁷ "," ⁸ "," ⁹ ", " ¹⁰ "," ¹¹ "," ¹² " ),"") | D11: Indicated | E11: Выявленные | F11: =CHOOSE(Content!$A$1, $D11, $E11)&$C11 -> Indicated | H11: 22950 | I11: 2.0264279 | J11: 1495.2183 | K11: 5.8593908 | L11: 1495.2183
C12: =IFERROR(CHOOSE(B12, " ¹ "," ² "," ³ "," ⁴ "," ⁵ "," ⁶ "," ⁷ "," ⁸ "," ⁹ ", " ¹⁰ "," ¹¹ "," ¹² " ),"") | D12: Measured + Indicated | E12: Оцененные + Выявленные | F12: =CHOOSE(Content!$A$1, $D12, $E12)&$C12 -> Measured + Indicated | H12: 28980 | I12: 1.8584649 | J12: 1731.5837 | K12: 9.2002784 | L12: 1731.5837
C13: =IFERROR(CHOOSE(B13, " ¹ "," ² "," ³ "," ⁴ "," ⁵ "," ⁶ "," ⁷ "," ⁸ "," ⁹ ", " ¹⁰ "," ¹¹ "," ¹² " ),"") | D13: Inferred | E13: Предполагаемые | F13: =CHOOSE(Content!$A$1, $D13, $E13)&$C13 -> Inferred | H13: 16100 | I13: 3.9435344 | J13: 2037.9866 | K13: 3.8460735 | L13: 2041.2784
C14: =IFERROR(CHOOSE(B14, " ¹ "," ² "," ³ "," ⁴ "," ⁵ "," ⁶ "," ⁷ "," ⁸ "," ⁹ ", " ¹⁰ "," ¹¹ "," ¹² " ),"") | D14: Measured + Indicated + Inferred | E14: Оцененные + Выявленные + Предполагаемые | F14: =CHOOSE(Content!$A$1, $D14, $E14)&$C14 -> Measured + Indicated + Inferred | H14: 45080 | I14: 2.6031326 | J14: 3769.5703 | K14: 13.046352 | L14: 3772.8621
C15: =IFERROR(CHOOSE(B15, " ¹ "," ² "," ³ "," ⁴ "," ⁵ "," ⁶ "," ⁷ "," ⁸ "," ⁹ ", " ¹⁰ "," ¹¹ "," ¹² " ),"") | D15: Ore Reserves reconciliation, GE Moz | E15: Изменения Рудных Запасов, млн унций золотого эквивалента | F15: =CHOOSE(Content!$A$1, $D15, $E15)&$C15 -> Ore Reserves reconciliation, GE Moz
C16: =IFERROR(CHOOSE(B16, " ¹ "," ² "," ³ "," ⁴ "," ⁵ "," ⁶ "," ⁷ "," ⁸ "," ⁹ ", " ¹⁰ "," ¹¹ "," ¹² " ),"") | D16: Ore Reserves, as at 1 January 2025 | E16: Рудные Запасы на 1 января 2025 г. | F16: =CHOOSE(Content!$A$1, $D16, $E16)&$C16 -> Ore Reserves, as at 1 January 2025 | H16: 12.1
C17: =IFERROR(CHOOSE(B17, " ¹ "," ² "," ³ "," ⁴ "," ⁵ "," ⁶ "," ⁷ "," ⁸ "," ⁹ ", " ¹⁰ "," ¹¹ "," ¹² " ),"") | D17: Depletion | E17: Истощение | F17: =CHOOSE(Content!$A$1, $D17, $E17)&$C17 -> Depletion | H17: -0.5
C18: =IFERROR(CHOOSE(B18, " ¹ "," ² "," ³ "," ⁴ "," ⁵ "," ⁶ "," ⁷ "," ⁸ "," ⁹ ", " ¹⁰ "," ¹¹ "," ¹² " ),"") | D18: Revaluation | E18: Переоценка | F18: =CHOOSE(Content!$A$1, $D18, $E18)&$C18 -> Revaluation | H18: 0.3
C19: =IFERROR(CHOOSE(B19, " ¹ "," ² "," ³ "," ⁴ "," ⁵ "," ⁶ "," ⁷ "," ⁸ "," ⁹ ", " ¹⁰ "," ¹¹ "," ¹² " ),"") | D19: Ore Reserves, as at 1 January 2026 | E19: Рудные Запасы на 1 января 2026 г. | F19: =CHOOSE(Content!$A$1, $D19, $E19)&$C19 -> Ore Reserves, as at 1 January 2026 | H19: 11.9
C20: =IFERROR(CHOOSE(B20, " ¹ "," ² "," ³ "," ⁴ "," ⁵ "," ⁶ "," ⁷ "," ⁸ "," ⁹ ", " ¹⁰ "," ¹¹ "," ¹² " ),"") | D20: Mineral Resources and Ore Reserves breakdown by metal | E20: Структура Минеральных ресурсов и Рудных запасов в разбивке по металлам | F20: =CHOOSE(Content!$A$1, $D20, $E20)&$C20 -> Mineral Resources and Ore Reserves breakdown by metal
C21: =IFERROR(CHOOSE(B21, " ¹ "," ² "," ³ "," ⁴ "," ⁵ "," ⁶ "," ⁷ "," ⁸ "," ⁹ ", " ¹⁰ "," ¹¹ "," ¹² " ),"") | D21: GE | E21: В золотом эквиваленте | F21: =CHOOSE(Content!$A$1, $D21, $E21)&$C21 -> GE | H21: =CHOOSE(Content!$A$1,$D137,$E137) -> Ore Reserves | I21: =CHOOSE(Content!$A$1,$D138,$E138) -> Mineral Resources
C22: =IFERROR(CHOOSE(B22, " ¹ "," ² "," ³ "," ⁴ "," ⁵ "," ⁶ "," ⁷ "," ⁸ "," ⁹ ", " ¹⁰ "," ¹¹ "," ¹² " ),"") | D22: Gold | E22: Золото | F22: =CHOOSE(Content!$A$1, $D22, $E22)&$C22 -> Gold | H22: 0.98929777 | I22: 0.98990773
C23: =IFERROR(CHOOSE(B23, " ¹ "," ² "," ³ "," ⁴ "," ⁵ "," ⁶ "," ⁷ "," ⁸ "," ⁹ ", " ¹⁰ "," ¹¹ "," ¹² " ),"") | D23: Base metals | E23: Цветные металлы | F23: =CHOOSE(Content!$A$1, $D23, $E23)&$C23 -> Base metals | H23: 0.010702231 | I23: 0.010092272
C24: =IFERROR(CHOOSE(B24, " ¹ "," ² "," ³ "," ⁴ "," ⁵ "," ⁶ "," ⁷ "," ⁸ "," ⁹ ", " ¹⁰ "," ¹¹ "," ¹² " ),"") | D24: Total | E24: Итого | F24: =CHOOSE(Content!$A$1, $D24, $E24)&$C24 -> Total | H24: 1 | I24: 1
B25: 1 | C25: =IFERROR(CHOOSE(B25, " ¹ "," ² "," ³ "," ⁴ "," ⁵ "," ⁶ "," ⁷ "," ⁸ "," ⁹ ", " ¹⁰ "," ¹¹ "," ¹² " ),"") -> ¹ | D25: Ore Reserves | E25: Рудные запасы | F25: =CHOOSE(Content!$A$1, $D25, $E25)&$C25 -> Ore Reserves ¹
C26: =IFERROR(CHOOSE(B26, " ¹ "," ² "," ³ "," ⁴ "," ⁵ "," ⁶ "," ⁷ "," ⁸ "," ⁹ ", " ¹⁰ "," ¹¹ "," ¹² " ),"") | D26: ="" | E26: ="" | F26: =CHOOSE(Content!$A$1, $D26, $E26)&$C26 | H26: =CHOOSE(Content!$A$1,$D132,$E132) -> Tonnage, Kt | I26: =CHOOSE(Content!$A$1,$D139,$E139) -> Gold grade, g/t | J26: =CHOOSE(Content!$A$1,$D141,$E141) -> Copper grade, % | K26: =CHOOSE(Content!$A$1,$D133,$E133) -> GE grade, g/t | L26: =CHOOSE(Content!$A$1,$D134,$E134) -> Gold, Koz | M26: =CHOOSE(Content!$A$1,$D135,$E135) -> Copper, Kt | N26: =CHOOSE(Content!$A$1,$D136,$E136) -> GE, Koz
C27: =IFERROR(CHOOSE(B27, " ¹ "," ² "," ³ "," ⁴ "," ⁵ "," ⁶ "," ⁷ "," ⁸ "," ⁹ ", " ¹⁰ "," ¹¹ "," ¹² " ),"") | D27: Proved | E27: Доказанные | F27: =CHOOSE(Content!$A$1, $D27, $E27)&$C27 -> Proved
C28: =IFERROR(CHOOSE(B28, " ¹ "," ² "," ³ "," ⁴ "," ⁵ "," ⁶ "," ⁷ "," ⁸ "," ⁹ ", " ¹⁰ "," ¹¹ "," ¹² " ),"") | D28: Stand-alone mines | E28: Самостоятельные месторождения | F28: =CHOOSE(Content!$A$1, $D28, $E28)&$C28 -> Stand-alone mines | H28: 3340 | K28: 6.1164911 | L28: 656.80969 | M28: 0 | N28: 656.80969
C29: =IFERROR(CHOOSE(B29, " ¹ "," ² "," ³ "," ⁴ "," ⁵ "," ⁶ "," ⁷ "," ⁸ "," ⁹ ", " ¹⁰ "," ¹¹ "," ¹² " ),"") | D29: Kyzyl | E29: Кызыл | F29: =CHOOSE(Content!$A$1, $D29, $E29)&$C29 -> Kyzyl | H29: 3340 | I29: 6.1228827 | J29: 0 | K29: 6.1228827 | L29: 656.80969 | M29: 0 | N29: 656.80969
C30: =IFERROR(CHOOSE(B30, " ¹ "," ² "," ³ "," ⁴ "," ⁵ "," ⁶ "," ⁷ "," ⁸ "," ⁹ ", " ¹⁰ "," ¹¹ "," ¹² " ),"") | D30: Varvara operations | E30: Варваринский Хаб | F30: =CHOOSE(Content!$A$1, $D30, $E30)&$C30 -> Varvara operations | H30: 25440 | K30: 0.89083788 | L30: 704.42849 | M30: 27.237639 | N30: 728.62912
B31: 2 | C31: =IFERROR(CHOOSE(B31, " ¹ "," ² "," ³ "," ⁴ "," ⁵ "," ⁶ "," ⁷ "," ⁸ "," ⁹ ", " ¹⁰ "," ¹¹ "," ¹² " ),"") -> ² | D31: Varvara | E31: Варваринское | F31: =CHOOSE(Content!$A$1, $D31, $E31)&$C31 -> Varvara ² | H31: 16150 | I31: 0.65037826 | J31: 0.42474512 | K31: 0.69698404 | L31: 337.71689 | M31: 27.237639 | N31: 361.91752
C32: =IFERROR(CHOOSE(B32, " ¹ "," ² "," ³ "," ⁴ "," ⁵ "," ⁶ "," ⁷ "," ⁸ "," ⁹ ", " ¹⁰ "," ¹¹ "," ¹² " ),"") | D32: High-grade ore | E32: руда с высокими содержаниями | F32: =CHOOSE(Content!$A$1, $D32, $E32)&$C32 -> High-grade ore | H32: 6410 | I32: 0.74528463 | J32: 0.42492416 | K32: 0.8627143 | L32: 153.59283 | M32: 27.237639 | N32: 177.79345
C33: =IFERROR(CHOOSE(B33, " ¹ "," ² "," ³ "," ⁴ "," ⁵ "," ⁶ "," ⁷ "," ⁸ "," ⁹ ", " ¹⁰ "," ¹¹ "," ¹² " ),"") | D33: Low-grade ore | E33: руда с низкими содержаниями | F33: =CHOOSE(Content!$A$1, $D33, $E33)&$C33 -> Low-grade ore | H33: 9740 | I33: 0.58797771 | J33: 0 | K33: 0.58797771 | L33: 184.12407 | M33: 0 | N33: 184.12407
C34: =IFERROR(CHOOSE(B34, " ¹ "," ² "," ³ "," ⁴ "," ⁵ "," ⁶ "," ⁷ "," ⁸ "," ⁹ ", " ¹⁰ "," ¹¹ "," ¹² " ),"") | D34: Komar | E34: Комаровское | F34: =CHOOSE(Content!$A$1, $D34, $E34)&$C34 -> Komar | H34: 5230 | I34: 1.3792051 | J34: 0 | K34: 1.3792051 | L34: 231.93308 | M34: 0 | N34: 231.93308
C35: =IFERROR(CHOOSE(B35, " ¹ "," ² "," ³ "," ⁴ "," ⁵ "," ⁶ "," ⁷ "," ⁸ "," ⁹ ", " ¹⁰ "," ¹¹ "," ¹² " ),"") | D35: Elevator | E35: Элеваторное | F35: =CHOOSE(Content!$A$1, $D35, $E35)&$C35 -> Elevator | H35: 4060 | I35: 1.0316358 | J35: 0 | K35: 1.0316358 | L35: 134.77851 | M35: 0 | N35: 134.77851
B36: 3 | C36: =IFERROR(CHOOSE(B36, " ¹ "," ² "," ³ "," ⁴ "," ⁵ "," ⁶ "," ⁷ "," ⁸ "," ⁹ ", " ¹⁰ "," ¹¹ "," ¹² " ),"") -> ³ | D36: Baksy | E36: Баксы | F36: =CHOOSE(Content!$A$1, $D36, $E36)&$C36 -> Baksy ³ | H36: 0 | I36: 0 | J36: 0 | K36: 0 | L36: 0 | M36: 0 | N36: 0
C37: =IFERROR(CHOOSE(B37, " ¹ "," ² "," ³ "," ⁴ "," ⁵ "," ⁶ "," ⁷ "," ⁸ "," ⁹ ", " ¹⁰ "," ¹¹ "," ¹² " ),"") | D37: Total Proved | E37: Всего Доказанные | F37: =CHOOSE(Content!$A$1, $D37, $E37)&$C37 -> Total Proved | H37: 28780 | K37: 1.4972896 | L37: 1361.2382 | M37: 27.237639 | N37: 1385.4388
C38: =IFERROR(CHOOSE(B38, " ¹ "," ² "," ³ "," ⁴ "," ⁵ "," ⁶ "," ⁷ "," ⁸ "," ⁹ ", " ¹⁰ "," ¹¹ "," ¹² " ),"") | D38: Probable | E38: Вероятные | F38: =CHOOSE(Content!$A$1, $D38, $E38)&$C38 -> Probable
C39: =IFERROR(CHOOSE(B39, " ¹ "," ² "," ³ "," ⁴ "," ⁵ "," ⁶ "," ⁷ "," ⁸ "," ⁹ ", " ¹⁰ "," ¹¹ "," ¹² " ),"") | D39: Stand-alone mines | E39: Самостоятельные месторождения | F39: =CHOOSE(Content!$A$1, $D39, $E39)&$C39 -> Stand-alone mines | H39: 56160 | K39: 4.981015 | L39: 8993.6438 | M39: 0 | N39: 8993.6438
C40: =IFERROR(CHOOSE(B40, " ¹ "," ² "," ³ "," ⁴ "," ⁵ "," ⁶ "," ⁷ "," ⁸ "," ⁹ ", " ¹⁰ "," ¹¹ "," ¹² " ),"") | D40: Kyzyl | E40: Кызыл | F40: =CHOOSE(Content!$A$1, $D40, $E40)&$C40 -> Kyzyl | H40: 56160 | I40: 4.9798957 | J40: 0 | K40: 4.9798957 | L40: 8993.6438 | M40: 0 | N40: 8993.6438
...

Sheet Fin highlights
B1: 1 | C1: =IFERROR(CHOOSE(B1, " ¹ "," ² "," ³ "," ⁴ "," ⁵ "," ⁶ "," ⁷ "," ⁸ "," ⁹ ", " ¹⁰ "," ¹¹ "," ¹² " ),"") -> ¹ | D1: Financial highlights | E1: Финансовые результаты | F1: =CHOOSE(Content!$A$1, $D1, $E1)&$C1 -> Financial highlights ¹
